BEGIN:VCALENDAR
VERSION:2.0
PRODID:-//dhtmlXScheduler//NONSGML v2.2//EN
X-WR-CALNAME:Wydarzenia
BEGIN:VEVENT
DTSTART:20240517T120000
DTEND:20240517T130000
UID:1
SUMMARY:Warsztaty arteterapeutyczne (3 spotkanie)
END:VEVENT
END:VCALENDAR