BEGIN:VCALENDAR
VERSION:2.0
PRODID:-//dhtmlXScheduler//NONSGML v2.2//EN
X-WR-CALNAME:Wydarzenia
BEGIN:VEVENT
DTSTART:20240515T120000
DTEND:20240515T130000
UID:1
SUMMARY:Warsztaty arteterapeutyczne (2 spotkanie)
END:VEVENT
END:VCALENDAR