BEGIN:VCALENDAR
VERSION:2.0
PRODID:-//dhtmlXScheduler//NONSGML v2.2//EN
X-WR-CALNAME:Wydarzenia
BEGIN:VEVENT
DTSTART:20240706T110000
DTEND:20240706T130000
UID:1
SUMMARY:Uroczystość otwarcia nowego budynku Filii UwB w Wilnie
END:VEVENT
END:VCALENDAR