BEGIN:VCALENDAR
VERSION:2.0
PRODID:-//dhtmlXScheduler//NONSGML v2.2//EN
X-WR-CALNAME:Wydarzenia
BEGIN:VEVENT
DTSTART:20241114T100000
DTEND:20241114T000000
UID:1
SUMMARY:Szkolnictwo pijarskie w Polsce i na Litwie
END:VEVENT
END:VCALENDAR