BEGIN:VCALENDAR
VERSION:2.0
PRODID:-//dhtmlXScheduler//NONSGML v2.2//EN
X-WR-CALNAME:Wydarzenia
BEGIN:VEVENT
DTSTART:20230201T113000
DTEND:20230201T133000
UID:1
SUMMARY:Spotkanie z Wicemer Miasta Wilna
END:VEVENT
END:VCALENDAR