BEGIN:VCALENDAR
VERSION:2.0
PRODID:-//dhtmlXScheduler//NONSGML v2.2//EN
X-WR-CALNAME:Wydarzenia
BEGIN:VEVENT
DTSTART:20230505T114000
DTEND:20230505T124000
UID:1
SUMMARY:Spotkanie z Tomaszem Szturo- Visma Lietuva
END:VEVENT
END:VCALENDAR