BEGIN:VCALENDAR
VERSION:2.0
PRODID:-//dhtmlXScheduler//NONSGML v2.2//EN
X-WR-CALNAME:Wydarzenia
BEGIN:VEVENT
DTSTART:20230405T133000
DTEND:20230405T143000
UID:1
SUMMARY:Spotkanie z przedstawicielem firmy "Weffer Logistics"
END:VEVENT
END:VCALENDAR