BEGIN:VCALENDAR
VERSION:2.0
PRODID:-//dhtmlXScheduler//NONSGML v2.2//EN
X-WR-CALNAME:Wydarzenia
BEGIN:VEVENT
DTSTART:20231211T100000
DTEND:20231211T110000
UID:1
SUMMARY:Spotkanie z Andrzejem Załuckim
END:VEVENT
END:VCALENDAR