BEGIN:VCALENDAR
VERSION:2.0
PRODID:-//dhtmlXScheduler//NONSGML v2.2//EN
X-WR-CALNAME:Wydarzenia
BEGIN:VEVENT
DTSTART:20230126T123000
DTEND:20230126T133000
UID:1
SUMMARY:Spotkanie otwarte z Edwardem Worszyńskim
END:VEVENT
END:VCALENDAR