BEGIN:VCALENDAR
VERSION:2.0
PRODID:-//dhtmlXScheduler//NONSGML v2.2//EN
X-WR-CALNAME:Wydarzenia
BEGIN:VEVENT
DTSTART:20230302T123000
DTEND:20230302T133000
UID:1
SUMMARY:Spotkanie online z architektem rozwiązań chmurowych w firmie Microsoft w Dublinie
END:VEVENT
END:VCALENDAR