BEGIN:VCALENDAR
VERSION:2.0
PRODID:-//dhtmlXScheduler//NONSGML v2.2//EN
X-WR-CALNAME:Wydarzenia
BEGIN:VEVENT
DTSTART:20230309T123000
DTEND:20230309T133000
UID:1
SUMMARY:Spotkanie Online " O Doświadczeniu Pracy"
END:VEVENT
END:VCALENDAR