BEGIN:VCALENDAR
VERSION:2.0
PRODID:-//dhtmlXScheduler//NONSGML v2.2//EN
X-WR-CALNAME:Wydarzenia
BEGIN:VEVENT
DTSTART:20230330T180000
DTEND:20260420T060014
UID:1
SUMMARY:Spotkanie Informacyjne na temat studiów
END:VEVENT
END:VCALENDAR