BEGIN:VCALENDAR
VERSION:2.0
PRODID:-//dhtmlXScheduler//NONSGML v2.2//EN
X-WR-CALNAME:Wydarzenia
BEGIN:VEVENT
DTSTART:20230308T133000
DTEND:20230308T143000
UID:1
SUMMARY:Spotkanie z Firmą GO-ERP
END:VEVENT
END:VCALENDAR