BEGIN:VCALENDAR
VERSION:2.0
PRODID:-//dhtmlXScheduler//NONSGML v2.2//EN
X-WR-CALNAME:Wydarzenia
BEGIN:VEVENT
DTSTART:20230428T000000
DTEND:20230430T000000
UID:1
SUMMARY:Projekt "Upodmiotowienie młodzieży z mniejszości narodowej w kontekście europejskim, krajowym i lokalnym" Fundacja Kompania Kresowa i Mickuńska Wspólnota Młodzieżowa
END:VEVENT
END:VCALENDAR