BEGIN:VCALENDAR
VERSION:2.0
PRODID:-//dhtmlXScheduler//NONSGML v2.2//EN
X-WR-CALNAME:Wydarzenia
BEGIN:VEVENT
DTSTART:20240516T143000
DTEND:20240516T153000
UID:1
SUMMARY:Problemy społeczne na Litwie i w Europie: ubóstwo, wykluczenie społeczne, deprywacja materialna
END:VEVENT
END:VCALENDAR