BEGIN:VCALENDAR
VERSION:2.0
PRODID:-//dhtmlXScheduler//NONSGML v2.2//EN
X-WR-CALNAME:Wydarzenia
BEGIN:VEVENT
DTSTART:20230518T103000
DTEND:20230518T130000
UID:1
SUMMARY:Prawa człowieka grup szczególnie wrażliwych- aspekty prawne i praktyczne
END:VEVENT
END:VCALENDAR