BEGIN:VCALENDAR
VERSION:2.0
PRODID:-//dhtmlXScheduler//NONSGML v2.2//EN
X-WR-CALNAME:Wydarzenia
BEGIN:VEVENT
DTSTART:20240514T130000
DTEND:20240514T140000
UID:1
SUMMARY:Od dekoratora do redaktora: Jakie zawody można wykonywać w telewizji?
END:VEVENT
END:VCALENDAR