BEGIN:VCALENDAR
VERSION:2.0
PRODID:-//dhtmlXScheduler//NONSGML v2.2//EN
X-WR-CALNAME:Wydarzenia
BEGIN:VEVENT
DTSTART:20250529T124500
DTEND:20250530T000000
UID:1
SUMMARY:Mobbing pod Lupą: Edukacja, Prewencja i Wsparcie Warsztaty dla młodych naukowców
END:VEVENT
END:VCALENDAR