BEGIN:VCALENDAR
VERSION:2.0
PRODID:-//dhtmlXScheduler//NONSGML v2.2//EN
X-WR-CALNAME:Wydarzenia
BEGIN:VEVENT
DTSTART:20241206T093000
DTEND:20241206T000000
UID:1
SUMMARY:MIĘDZYNARODOWE STUDENCKIE SEMINARIUM NAUKOWE „MŁODZIEŻ W EUROPIE”
END:VEVENT
END:VCALENDAR