BEGIN:VCALENDAR
VERSION:2.0
PRODID:-//dhtmlXScheduler//NONSGML v2.2//EN
X-WR-CALNAME:Wydarzenia
BEGIN:VEVENT
DTSTART:20260515T000000
DTEND:20260421T145925
UID:1
SUMMARY:Międzynarodowa Interdyscyplinarna Studencko-Doktorancka Konferencja Naukowa pt. MŁODE POGRANICZE EUROPY: ŚRODOWISKO, SPOŁECZEŃSTWO, GOSPODARKA
END:VEVENT
END:VCALENDAR