BEGIN:VCALENDAR
VERSION:2.0
PRODID:-//dhtmlXScheduler//NONSGML v2.2//EN
X-WR-CALNAME:Wydarzenia
BEGIN:VEVENT
DTSTART:20230512T093000
DTEND:20230514T093000
UID:1
SUMMARY:Lider 2023
END:VEVENT
END:VCALENDAR