BEGIN:VCALENDAR
VERSION:2.0
PRODID:-//dhtmlXScheduler//NONSGML v2.2//EN
X-WR-CALNAME:Wydarzenia
BEGIN:VEVENT
DTSTART:20240523T130000
DTEND:20240523T140000
UID:1
SUMMARY:Kulisy zawodowej codzienności  Prawdziwe wyzwania w księgowości i logistyce
END:VEVENT
END:VCALENDAR