BEGIN:VCALENDAR
VERSION:2.0
PRODID:-//dhtmlXScheduler//NONSGML v2.2//EN
X-WR-CALNAME:Wydarzenia
BEGIN:VEVENT
DTSTART:20240523T133000
DTEND:20240523T143000
UID:1
SUMMARY:Krótka Historia Litery Łacińskiej
END:VEVENT
END:VCALENDAR