BEGIN:VCALENDAR
VERSION:2.0
PRODID:-//dhtmlXScheduler//NONSGML v2.2//EN
X-WR-CALNAME:Wydarzenia
BEGIN:VEVENT
DTSTART:20241117T000000
DTEND:20241117T000000
UID:1
SUMMARY:Konkurs fotograficzny: "Zabawne momenty na Makowej"
END:VEVENT
END:VCALENDAR