BEGIN:VCALENDAR
VERSION:2.0
PRODID:-//dhtmlXScheduler//NONSGML v2.2//EN
X-WR-CALNAME:Wydarzenia
BEGIN:VEVENT
DTSTART:20230427T180000
DTEND:20230427T190000
UID:1
SUMMARY:Jak wygląda praca w logistyce
END:VEVENT
END:VCALENDAR