BEGIN:VCALENDAR
VERSION:2.0
PRODID:-//dhtmlXScheduler//NONSGML v2.2//EN
X-WR-CALNAME:Wydarzenia
BEGIN:VEVENT
DTSTART:20240719T120000
DTEND:20240719T130000
UID:1
SUMMARY:Dyplomatorium 2024
END:VEVENT
END:VCALENDAR