BEGIN:VCALENDAR
VERSION:2.0
PRODID:-//dhtmlXScheduler//NONSGML v2.2//EN
X-WR-CALNAME:Wydarzenia
BEGIN:VEVENT
DTSTART:20241106T000000
DTEND:20241106T000000
UID:1
SUMMARY:Akcja charytatywna- Dzień Ciasta
END:VEVENT
END:VCALENDAR