BEGIN:VCALENDAR
VERSION:2.0
PRODID:-//dhtmlXScheduler//NONSGML v2.2//EN
X-WR-CALNAME:Wydarzenia
BEGIN:VEVENT
DTSTART:20230124T123000
DTEND:20230124T143000
UID:1
SUMMARY:700 lat !
END:VEVENT
END:VCALENDAR