BEGIN:VCALENDAR
VERSION:2.0
PRODID:-//dhtmlXScheduler//NONSGML v2.2//EN
X-WR-CALNAME:Wydarzenia
BEGIN:VEVENT
DTSTART:20240513T150000
DTEND:20240513T160000
UID:0
SUMMARY:Warsztaty arteterapeutyczne (1 spotkanie)
END:VEVENT
BEGIN:VEVENT
DTSTART:20240514T130000
DTEND:20240514T140000
UID:1
SUMMARY:Od dekoratora do redaktora: Jakie zawody można wykonywać w telewizji?
END:VEVENT
BEGIN:VEVENT
DTSTART:20240515T120000
DTEND:20240515T130000
UID:2
SUMMARY:Warsztaty arteterapeutyczne (2 spotkanie)
END:VEVENT
BEGIN:VEVENT
DTSTART:20240515T130000
DTEND:20240515T150000
UID:3
SUMMARY:Konkurs informatyczny
END:VEVENT
BEGIN:VEVENT
DTSTART:20240516T115000
DTEND:20240516T125000
UID:4
SUMMARY:European Institute for Gender Equality
END:VEVENT
BEGIN:VEVENT
DTSTART:20240516T143000
DTEND:20240516T153000
UID:5
SUMMARY:Problemy społeczne na Litwie i w Europie: ubóstwo, wykluczenie społeczne, deprywacja materialna
END:VEVENT
BEGIN:VEVENT
DTSTART:20240517T140000
DTEND:20240517T150000
UID:6
SUMMARY:Regeneracja i promocja zdrowia współczesnego człowieka
END:VEVENT
BEGIN:VEVENT
DTSTART:20240517T120000
DTEND:20240517T130000
UID:7
SUMMARY:Warsztaty arteterapeutyczne (3 spotkanie)
END:VEVENT
BEGIN:VEVENT
DTSTART:20240523T133000
DTEND:20240523T143000
UID:8
SUMMARY:Krótka Historia Litery Łacińskiej
END:VEVENT
BEGIN:VEVENT
DTSTART:20240523T130000
DTEND:20240523T140000
UID:9
SUMMARY:Kulisy zawodowej codzienności  Prawdziwe wyzwania w księgowości i logistyce
END:VEVENT
BEGIN:VEVENT
DTSTART:20240620T140000
DTEND:20260422T103102
UID:10
SUMMARY:"Personalny asystent dla każdego - ChatGPT i inne modele językowe"
END:VEVENT
BEGIN:VEVENT
DTSTART:20240715T000000
DTEND:20260422T103102
UID:11
SUMMARY:IV Ogólnopolski Konkurs na najlepsze  PRACE I PROJEKTY INŻYNIERSKIE
END:VEVENT
BEGIN:VEVENT
DTSTART:20250404T101000
DTEND:20260422T103102
UID:12
SUMMARY:"System zarządzania bezpieczeństwem informacji w praktyce jednostek administracji publicznej."
END:VEVENT
BEGIN:VEVENT
DTSTART:20250512T120000
DTEND:20260422T103102
UID:13
SUMMARY:Czego się bałeś jak byłeś mały? Czego się boisz teraz? Działanie plastyczne w rozpoznaniu lęków u dziewięcio i dziesięciolatków.
END:VEVENT
BEGIN:VEVENT
DTSTART:20250513T130000
DTEND:20260422T103102
UID:14
SUMMARY:KONKURS EKONOMICZNY DLA MŁODZIEŻY Z WILEŃSZCZYZNY
END:VEVENT
BEGIN:VEVENT
DTSTART:20250514T130000
DTEND:20260422T103102
UID:15
SUMMARY:KONKURS INFORMATYCZNY DLA UCZNIÓW KLAS X-XII
END:VEVENT
BEGIN:VEVENT
DTSTART:20250515T150000
DTEND:20260422T103102
UID:16
SUMMARY:Pokaz filmu dokumentalnego „Była sobie piosenka”
END:VEVENT
BEGIN:VEVENT
DTSTART:20250516T120000
DTEND:20260422T103102
UID:17
SUMMARY:Poznaj Siebie
END:VEVENT
BEGIN:VEVENT
DTSTART:20250528T160000
DTEND:20260422T103102
UID:18
SUMMARY:Nie czytasz. Nie oglądasz. Przeżywasz: Gry komputerowe jako dzieło sztuki i emocji
END:VEVENT
BEGIN:VEVENT
DTSTART:20250603T140000
DTEND:20260422T103102
UID:19
SUMMARY:Wzmacnianie niezależności energetycznej i odporności
END:VEVENT
BEGIN:VEVENT
DTSTART:20250605T100000
DTEND:20260422T103102
UID:20
SUMMARY:Ukraina i my — jaka jest przyszłość regionu Europy Środkowowschodniej
END:VEVENT
BEGIN:VEVENT
DTSTART:20250606T120000
DTEND:20260422T103102
UID:21
SUMMARY:Instytucjonalizacja regionalizmu w obszarze Morza Bałtyckiego – na przykładzie Rady Państw Morza Bałtyckiego
END:VEVENT
BEGIN:VEVENT
DTSTART:20250606T150000
DTEND:20260422T103102
UID:22
SUMMARY:Edukacja w naturze
END:VEVENT
BEGIN:VEVENT
DTSTART:20250718T120000
DTEND:20260422T103102
UID:23
SUMMARY:Uroczystość wręczenia dyplomów 2025
END:VEVENT
BEGIN:VEVENT
DTSTART:20250916T170000
DTEND:20260422T103102
UID:24
SUMMARY:Slam Poetycki
END:VEVENT
BEGIN:VEVENT
DTSTART:20250922T190000
DTEND:20260422T103102
UID:25
SUMMARY:Dziad yyy - spektakl z motywami dzieł Adama Mickiewicz
END:VEVENT
BEGIN:VEVENT
DTSTART:20250929T000000
DTEND:20260422T103102
UID:26
SUMMARY:DZIEŃ AKADEMICKI 2025 – PROGRAM
END:VEVENT
BEGIN:VEVENT
DTSTART:20251002T140000
DTEND:20260422T103102
UID:27
SUMMARY:Spotkanie otwarte - dr hab. A. R. Bartnicki, prof. UwB
END:VEVENT
BEGIN:VEVENT
DTSTART:20251003T120000
DTEND:20260422T103102
UID:28
SUMMARY:Inauguracja roku akademickiego 2025/2026
END:VEVENT
BEGIN:VEVENT
DTSTART:20251008T152000
DTEND:20260422T103102
UID:29
SUMMARY:prof. dr hab. Lech Witkowski
END:VEVENT
BEGIN:VEVENT
DTSTART:20251121T100000
DTEND:20260422T103102
UID:30
SUMMARY:Sympozjum Naukowe „Duma i Zobowiązanie"
END:VEVENT
BEGIN:VEVENT
DTSTART:20251121T090000
DTEND:20260422T103102
UID:31
SUMMARY:Budowanie odporności społecznej na pograniczu państw i  kultur w perspektywie rosyjskich wojen kognitywnych
END:VEVENT
BEGIN:VEVENT
DTSTART:20251211T100000
DTEND:20260422T103102
UID:32
SUMMARY:SZKOLENIE DLA MŁODYCH PRZEDSIĘBIORCÓW!
END:VEVENT
BEGIN:VEVENT
DTSTART:20251215T120000
DTEND:20260422T103102
UID:33
SUMMARY:„Muzeum jako miejsce edukacji, zabawy i…
END:VEVENT
BEGIN:VEVENT
DTSTART:20260116T110000
DTEND:20260422T103102
UID:34
SUMMARY:TRANSGRANICZNE FORUM NAUKA-BIZNES-SAMORZĄD
END:VEVENT
BEGIN:VEVENT
DTSTART:20260309T150000
DTEND:20260422T103102
UID:35
SUMMARY:Spotkanie Informacyjne: Program Erasmus+
END:VEVENT
BEGIN:VEVENT
DTSTART:20260324T115000
DTEND:20260422T103102
UID:36
SUMMARY:Tutoring jako kompas, tutor jako przewodnik: podróż nauczycielska w hybrydowych czasach post-humanizmu
END:VEVENT
BEGIN:VEVENT
DTSTART:20260326T103000
DTEND:20260422T103102
UID:37
SUMMARY:Rada Państw Morza Bałtyckiego w zmieniającej się rzeczywistości międzynarodowej
END:VEVENT
BEGIN:VEVENT
DTSTART:20260413T115000
DTEND:20260422T103102
UID:38
SUMMARY:Praca to wspaniała zabawa. Metoda Marii Montessori w szkole
END:VEVENT
BEGIN:VEVENT
DTSTART:20260422T163000
DTEND:20260422T103102
UID:39
SUMMARY:Spotkanie informacyjne nt. Trybu i zasad rekrutacji do Szkoły Doktorskiej UwB w roku akademickim 2026/2027
END:VEVENT
BEGIN:VEVENT
DTSTART:20260429T173000
DTEND:20260422T103102
UID:40
SUMMARY:Otwarcie wystawy - KIM JESTEŚMY?
END:VEVENT
BEGIN:VEVENT
DTSTART:20260515T000000
DTEND:20260422T103102
UID:41
SUMMARY:Międzynarodowa Interdyscyplinarna Studencko-Doktorancka Konferencja Naukowa pt. MŁODE POGRANICZE EUROPY: ŚRODOWISKO, SPOŁECZEŃSTWO, GOSPODARKA
END:VEVENT
END:VCALENDAR